BEGIN:VCALENDAR
VERSION:2.0
PRODID:-//Agroforestry Regeneration Communities - ECPv6.15.18//NONSGML v1.0//EN
CALSCALE:GREGORIAN
METHOD:PUBLISH
X-WR-CALNAME:Agroforestry Regeneration Communities
X-ORIGINAL-URL:https://agroforestryrc.org
X-WR-CALDESC:Events for Agroforestry Regeneration Communities
REFRESH-INTERVAL;VALUE=DURATION:PT1H
X-Robots-Tag:noindex
X-PUBLISHED-TTL:PT1H
BEGIN:VTIMEZONE
TZID:Africa/Kigali
BEGIN:STANDARD
TZOFFSETFROM:+0200
TZOFFSETTO:+0200
TZNAME:CAT
DTSTART:20230101T000000
END:STANDARD
END:VTIMEZONE
BEGIN:VEVENT
DTSTART;TZID=Africa/Kigali:20240805T080000
DTEND;TZID=Africa/Kigali:20240809T170000
DTSTAMP:20260421T140847
CREATED:20240719T131308Z
LAST-MODIFIED:20240719T131308Z
UID:1970-1722844800-1723222800@agroforestryrc.org
SUMMARY:Agroecology Training course
DESCRIPTION:This 5-day Agroecology training course will be held from the 5th to the 9th of August 2024. It is organised by the Permaculture Paradise Institute that is based in Mchinji\, Malawi. Learn how to grow your own healthy and nutritious food\, and be part of a global movement. \nWe invite you to learn more and share this event with your network. \nPlease tag ARC and let’s regenerate! \n \n  \nOrganisers & Facilitators; \n\nPermaculture Paradise Institute\n\n  \nRegister now; \nCall; +265 998 690 443 \nOr Email; info@permacultureinstitutemw.com \nTo learn more about ARC\, please visit our website at agroforestryrc.org
URL:https://agroforestryrc.org/event/agroecology-training-course/
LOCATION:Permaculture Paradise Insitute\, Mchinji\, Malawi
ATTACH;FMTTYPE=image/jpeg:https://agroforestryrc.org/wp-content/uploads/2024/07/IMG-20240715-WA0035.jpg
ORGANIZER;CN="Permaculture Paradise Institute":MAILTO:luwayo.permacultureinstitutemw.org
END:VEVENT
END:VCALENDAR