BEGIN:VCALENDAR
VERSION:2.0
PRODID:-//Agroforestry Regeneration Communities - ECPv6.15.18//NONSGML v1.0//EN
CALSCALE:GREGORIAN
METHOD:PUBLISH
X-WR-CALNAME:Agroforestry Regeneration Communities
X-ORIGINAL-URL:https://agroforestryrc.org
X-WR-CALDESC:Events for Agroforestry Regeneration Communities
REFRESH-INTERVAL;VALUE=DURATION:PT1H
X-Robots-Tag:noindex
X-PUBLISHED-TTL:PT1H
BEGIN:VTIMEZONE
TZID:Africa/Kigali
BEGIN:STANDARD
TZOFFSETFROM:+0200
TZOFFSETTO:+0200
TZNAME:CAT
DTSTART:20230101T000000
END:STANDARD
END:VTIMEZONE
BEGIN:VEVENT
DTSTART;TZID=Africa/Kigali:20240812T080000
DTEND;TZID=Africa/Kigali:20240816T170000
DTSTAMP:20260421T140817
CREATED:20240816T081557Z
LAST-MODIFIED:20240816T081557Z
UID:1989-1723449600-1723827600@agroforestryrc.org
SUMMARY:Bee Keeping Training
DESCRIPTION:This 5-day Bee Keeping training will be held from the 12th to the 16th of August 2024. It is organised by the Permaculture Paradise Institute and will take place in Madisi\, Dowa in Malawi. Learn how to grow your own thriving bee colonies and produce high-quality honey while contributing to local pollination and ecosystem health. \nWe invite you to learn more and share this event with your network. \nPlease tag ARC and let’s regenerate! \n \n  \nOrganisers & Facilitators; \n\nPermaculture Paradise Institute\n\n  \nRegister now; \nCall; +265 998 690 443 \nOr Email; info@permacultureinstitutemw.com \nTo learn more about ARC\, please visit our website at agroforestryrc.org
URL:https://agroforestryrc.org/event/bee-keeping-training/
LOCATION:Madisi\, Dowa\, Malawi
ATTACH;FMTTYPE=image/jpeg:https://agroforestryrc.org/wp-content/uploads/2024/08/event-luwayo-IMG-20240811-WA0000.jpg
ORGANIZER;CN="Permaculture Paradise Institute":MAILTO:luwayo.permacultureinstitutemw.org
END:VEVENT
END:VCALENDAR