BEGIN:VCALENDAR
VERSION:2.0
PRODID:-//Agroforestry Regeneration Communities - ECPv6.15.18//NONSGML v1.0//EN
CALSCALE:GREGORIAN
METHOD:PUBLISH
X-ORIGINAL-URL:https://agroforestryrc.org
X-WR-CALDESC:Events for Agroforestry Regeneration Communities
REFRESH-INTERVAL;VALUE=DURATION:PT1H
X-Robots-Tag:noindex
X-PUBLISHED-TTL:PT1H
BEGIN:VTIMEZONE
TZID:America/Los_Angeles
BEGIN:DAYLIGHT
TZOFFSETFROM:-0800
TZOFFSETTO:-0700
TZNAME:PDT
DTSTART:20240310T100000
END:DAYLIGHT
BEGIN:STANDARD
TZOFFSETFROM:-0700
TZOFFSETTO:-0800
TZNAME:PST
DTSTART:20241103T090000
END:STANDARD
BEGIN:DAYLIGHT
TZOFFSETFROM:-0800
TZOFFSETTO:-0700
TZNAME:PDT
DTSTART:20250309T100000
END:DAYLIGHT
BEGIN:STANDARD
TZOFFSETFROM:-0700
TZOFFSETTO:-0800
TZNAME:PST
DTSTART:20251102T090000
END:STANDARD
BEGIN:DAYLIGHT
TZOFFSETFROM:-0800
TZOFFSETTO:-0700
TZNAME:PDT
DTSTART:20260308T100000
END:DAYLIGHT
BEGIN:STANDARD
TZOFFSETFROM:-0700
TZOFFSETTO:-0800
TZNAME:PST
DTSTART:20261101T090000
END:STANDARD
END:VTIMEZONE
BEGIN:VEVENT
DTSTART;TZID=America/Los_Angeles:20250201T080000
DTEND;TZID=America/Los_Angeles:20250201T170000
DTSTAMP:20260421T205309
CREATED:20250402T222852Z
LAST-MODIFIED:20250402T222852Z
UID:2153-1738396800-1738429200@agroforestryrc.org
SUMMARY:2025 Agroforestry Workshop: Pruning our Silvopasture Project
DESCRIPTION:Join Contour Lines for an event at SAHC Community Farm on the 1st of February 2025. \nWe invite you to learn more and share this event with your network. \nPlease tag ARC\, and let’s regenerate! \n \n  \nOrganisers & Facilitators; \n\nContour Lines Corp\n\n  \nTo learn more about ARC\, please visit our website at agroforestryrc.org
URL:https://appalachian.org/event/agroforestry-workshop-pruning-silvopasture/?utm_source=ActiveCampaign&#038;utm_medium=email&#038;utm_content=You%20re%20invited%21&#038;utm_campaign=Dec%20E-News%20Upcoming%20Events
LOCATION:SAHC Community Farm (180 Mag Sluder Road Alexander\, NC 28701)\, 180 Mag Sluder Road Alexander\, NC 28701)\, Alexander\, NC\, United States
ATTACH;FMTTYPE=image/webp:https://agroforestryrc.org/wp-content/uploads/2025/04/contour-lines_photo_optimized.jpeg.webp
END:VEVENT
END:VCALENDAR